BEGIN:VCALENDAR
VERSION:2.0
PRODID:-//Tukios.com/
BEGIN:VEVENT
UID:d900a67d-13d5-441f-a3ec-fc17035e694c@www.ballingerfuneralhome.com
DTSTAMP:20260421T192652Z
DTSTART:20260425T150000Z
DTEND:20260425T160000Z
SUMMARY:Mass
DESCRIPTION:
URL:https://www.ballingerfuneralhome.com/obituaries/oscar-dominguez-zertuche
LOCATION: 604 N 6th St  Ballinger TX 76821
GEO:31.7452429;-99.9502934
END:VEVENT
END:VCALENDAR