BEGIN:VCALENDAR
VERSION:2.0
PRODID:-//Tukios.com/
BEGIN:VEVENT
UID:29f9c388-f184-4c19-a408-72b1e443b3e2@www.ballingerfuneralhome.com
DTSTAMP:20260421T192917Z
DTSTART:20260425T000000Z
DTEND:20260425T010000Z
SUMMARY:Rosary
DESCRIPTION:
URL:https://www.ballingerfuneralhome.com/obituaries/oscar-dominguez-zertuche
LOCATION: 1910 Hutchings Ave  Ballinger TX 76821
GEO:31.7259875;-99.9597746
END:VEVENT
END:VCALENDAR